BEGIN:VCALENDAR
VERSION:2.0
PRODID:-//Tukios.com/
BEGIN:VEVENT
UID:d1dd52a0-00d6-409d-a293-4447aace53cd@www.reverencefuneralparlor.com
DTSTAMP:20260421T085257Z
DTSTART:20260227T000000Z
DTEND:20260227T020000Z
SUMMARY:Visitation
DESCRIPTION:
URL:https://www.reverencefuneralparlor.com/obituaries/edie-wilson
LOCATION:Reverence Funeral Parlor 2002 Char Ave  Scottsbluff NE 69361
GEO:41.8668004;-103.6769753
END:VEVENT
END:VCALENDAR