BEGIN:VCALENDAR
VERSION:2.0
PRODID:-//Tukios.com/
BEGIN:VEVENT
UID:3028c1b2-c648-42ba-9b48-f19d0e2cafe0@www.reverencefuneralparlor.com
DTSTAMP:20260425T005508Z
DTSTART:20260502T200000Z
DTEND:20260502T210000Z
SUMMARY:Celebration of Life
DESCRIPTION:
URL:https://www.reverencefuneralparlor.com/obituaries/gerald-jerry-parriott
LOCATION:StoneBridge Christian Church (Omaha Campus) 15801 Butler Ave  
	Omaha NE 68116
GEO:41.3000548;-96.1617558
END:VEVENT
END:VCALENDAR