BEGIN:VCALENDAR
VERSION:2.0
PRODID:-//Tukios.com/
BEGIN:VEVENT
UID:062a8b55-49ca-463b-a906-e68c319cfa7b@www.reverencefuneralparlor.com
DTSTAMP:20260422T002842Z
DTSTART:20260423T160000Z
DTEND:20260423T170000Z
SUMMARY:Funeral Service
DESCRIPTION:
URL:https://www.reverencefuneralparlor.com/obituaries/ronald-ahlers-sr
LOCATION:St John's Lutheran Church 2220 Broadway  Scottsbluff NE 69361
GEO:41.8691941;-103.6635879
END:VEVENT
END:VCALENDAR