BEGIN:VCALENDAR
VERSION:2.0
PRODID:-//Tukios.com/
BEGIN:VEVENT
UID:d1c4f920-d48d-4e89-b1f4-b30ebb2c515b@www.reverencefuneralparlor.com
DTSTAMP:20260422T002822Z
DTSTART:20260423T150000Z
DTEND:20260423T160000Z
SUMMARY:Viewing
DESCRIPTION:
URL:https://www.reverencefuneralparlor.com/obituaries/ronald-ahlers-sr
LOCATION:St John's Lutheran Church 2220 Broadway  Scottsbluff NE 69361
GEO:41.8691941;-103.6635879
END:VEVENT
END:VCALENDAR