BEGIN:VCALENDAR
VERSION:2.0
PRODID:-//Tukios.com/
BEGIN:VEVENT
UID:2009b184-3df9-4fab-b1e4-a0d2c688329a@www.reverencefuneralparlor.com
DTSTAMP:20260423T221017Z
DTSTART:20260427T160000Z
DTEND:20260427T170000Z
SUMMARY:Funeral Service
DESCRIPTION:
URL:https://www.reverencefuneralparlor.com/obituaries/victor-escamilla
LOCATION:Church of the Nazarene 1305 West 20th Street  Scottsbluff NE 
	69361
GEO:41.8664752;-103.6798898
END:VEVENT
END:VCALENDAR