BEGIN:VCALENDAR
VERSION:2.0
PRODID:-//Tukios.com/
BEGIN:VEVENT
UID:0456dffd-23a3-4a6e-aee5-1499af86d233@www.reverencefuneralparlor.com
DTSTAMP:20260423T220828Z
DTSTART:20260427T160000Z
DTEND:20260427T170000Z
SUMMARY:Interment
DESCRIPTION:
URL:https://www.reverencefuneralparlor.com/obituaries/victor-escamilla
LOCATION:Sunset Memorial Park 180398 Highway 26  Scottsbluff NE 69361
GEO:41.8992272;-103.7162465
END:VEVENT
END:VCALENDAR